BEGIN:VCALENDAR
VERSION:2.0
PRODID:-//Stonington Free Library - ECPv6.15.20//NONSGML v1.0//EN
CALSCALE:GREGORIAN
METHOD:PUBLISH
X-ORIGINAL-URL:https://www.stoningtonfreelibrary.org
X-WR-CALDESC:Events for Stonington Free Library
REFRESH-INTERVAL;VALUE=DURATION:PT1H
X-Robots-Tag:noindex
X-PUBLISHED-TTL:PT1H
BEGIN:VTIMEZONE
TZID:America/New_York
BEGIN:DAYLIGHT
TZOFFSETFROM:-0500
TZOFFSETTO:-0400
TZNAME:EDT
DTSTART:20220313T070000
END:DAYLIGHT
BEGIN:STANDARD
TZOFFSETFROM:-0400
TZOFFSETTO:-0500
TZNAME:EST
DTSTART:20221106T060000
END:STANDARD
BEGIN:DAYLIGHT
TZOFFSETFROM:-0500
TZOFFSETTO:-0400
TZNAME:EDT
DTSTART:20230312T070000
END:DAYLIGHT
BEGIN:STANDARD
TZOFFSETFROM:-0400
TZOFFSETTO:-0500
TZNAME:EST
DTSTART:20231105T060000
END:STANDARD
BEGIN:DAYLIGHT
TZOFFSETFROM:-0500
TZOFFSETTO:-0400
TZNAME:EDT
DTSTART:20240310T070000
END:DAYLIGHT
BEGIN:STANDARD
TZOFFSETFROM:-0400
TZOFFSETTO:-0500
TZNAME:EST
DTSTART:20241103T060000
END:STANDARD
END:VTIMEZONE
BEGIN:VEVENT
DTSTART;VALUE=DATE:20230501
DTEND;VALUE=DATE:20230502
DTSTAMP:20260421T084630
CREATED:20230430T215517Z
LAST-MODIFIED:20230430T215517Z
UID:10008017-1682899200-1682985599@www.stoningtonfreelibrary.org
SUMMARY:ADULT TAKE AND MAKE SEED BALLS
DESCRIPTION:Help usher in Spring and enjoy a hands on craft your whole family can enjoy with our seed ball take and make kit! Each kit includes several sheets of newspaper\, a packet of perennial flower seeds\, and instructions. A blender or food processor is required.
URL:https://www.stoningtonfreelibrary.org/event/adult-take-and-make-seed-balls/
LOCATION:Stonington Free Library\, 20 High St.\, Stonington\, CT\, 06378\, United States
CATEGORIES:Outreach
ATTACH;FMTTYPE=image/png:https://www.stoningtonfreelibrary.org/wp-content/uploads/2023/04/May-Take-and-Make-Square-Stonington-Library.png
ORGANIZER;CN="Karla Umland":MAILTO:karla@stoningtonfreelibrary.org
GEO:41.336378;-71.90651
X-APPLE-STRUCTURED-LOCATION;VALUE=URI;X-ADDRESS=Stonington Free Library 20 High St. Stonington CT 06378 United States;X-APPLE-RADIUS=500;X-TITLE=20 High St.:geo:-71.90651,41.336378
END:VEVENT
BEGIN:VEVENT
DTSTART;TZID=America/New_York:20230508T100000
DTEND;TZID=America/New_York:20230508T190000
DTSTAMP:20260421T084630
CREATED:20230417T162814Z
LAST-MODIFIED:20230417T162814Z
UID:10008014-1683540000-1683572400@www.stoningtonfreelibrary.org
SUMMARY:Grab and Go Flapping Butterfly - Ages 8 and Up
DESCRIPTION:
URL:https://www.stoningtonfreelibrary.org/event/grab-and-go-flapping-butterfly-ages-8-and-up/
LOCATION:Stonington Free Library\, 20 High St.\, Stonington\, CT\, 06378\, United States
CATEGORIES:Youth
ATTACH;FMTTYPE=image/png:https://www.stoningtonfreelibrary.org/wp-content/uploads/2023/04/May-Grab-and-Go-Butterfly.png
ORGANIZER;CN="Cathy Taylor":MAILTO:cathytaylor@stoningtonfreelibrary.org
GEO:41.336378;-71.90651
X-APPLE-STRUCTURED-LOCATION;VALUE=URI;X-ADDRESS=Stonington Free Library 20 High St. Stonington CT 06378 United States;X-APPLE-RADIUS=500;X-TITLE=20 High St.:geo:-71.90651,41.336378
END:VEVENT
BEGIN:VEVENT
DTSTART;TZID=America/New_York:20230511T140000
DTEND;TZID=America/New_York:20230511T150000
DTSTAMP:20260421T084630
CREATED:20230430T215845Z
LAST-MODIFIED:20230430T215845Z
UID:10008018-1683813600-1683817200@www.stoningtonfreelibrary.org
SUMMARY:SFL THURSDAY AFTERNOON BOOK GROUP
DESCRIPTION:Join us on Thursday 5/11 @ 2pm to discuss The Sentence by Louise Erdrich.\n“A small independent bookstore in Minneapolis is haunted from November 2019 to November 2020 by the store’s most annoying customer. Tookie\, who has landed a job selling books after years of incarceration that she survived by reading “with murderous attention\,” must solve the mystery of this haunting while at the same time trying to understand all that occurs in Minneapolis during a year of grief\, astonishment\, isolation\, and furious reckoning.” Email Ivyhope@stoningtonfreelibrary.org for more information!
URL:https://www.stoningtonfreelibrary.org/event/sfl-thursday-afternoon-book-group-20/
LOCATION:Stonington Free Library\, 20 High St.\, Stonington\, CT\, 06378\, United States
ATTACH;FMTTYPE=image/png:https://www.stoningtonfreelibrary.org/wp-content/uploads/2023/04/SFL-Thursday-Afternoon-Book-Group-May-2023-Stonington-Library.png
ORGANIZER;CN="Bex Hering":MAILTO:stonlib@stoningtonfreelibrary.org
GEO:41.336378;-71.90651
X-APPLE-STRUCTURED-LOCATION;VALUE=URI;X-ADDRESS=Stonington Free Library 20 High St. Stonington CT 06378 United States;X-APPLE-RADIUS=500;X-TITLE=20 High St.:geo:-71.90651,41.336378
END:VEVENT
BEGIN:VEVENT
DTSTART;TZID=America/New_York:20230511T173000
DTEND;TZID=America/New_York:20230511T183000
DTSTAMP:20260421T084630
CREATED:20230430T220325Z
LAST-MODIFIED:20230430T220335Z
UID:10008019-1683826200-1683829800@www.stoningtonfreelibrary.org
SUMMARY:CONVERSATIONS ON DEATH AND DYING
DESCRIPTION:Most of us put off any discussion about this last stage in life. Why? It is going to happen to all of us whether we are ready or not. \nIf you have questions or concerns about the last stage of life come join End-of-Life Doulas Noreen Kepple\, Greta McGugan\, and Lavina Kepple for conversations around this important topic. They are here to help get the dialogue started and navigate the issues surrounding dying.
URL:https://www.stoningtonfreelibrary.org/event/conversations-on-death-and-dying-2/
LOCATION:Stonington Free Library\, 20 High St.\, Stonington\, CT\, 06378\, United States
CATEGORIES:Adult Lecture Series,Outreach
ATTACH;FMTTYPE=image/jpeg:https://www.stoningtonfreelibrary.org/wp-content/uploads/2023/04/Noreen-KeppleDoula-2023-Instagram-Post-Square-Alyssa-Downey.jpg
ORGANIZER;CN="Karla Umland":MAILTO:karla@stoningtonfreelibrary.org
GEO:41.336378;-71.90651
X-APPLE-STRUCTURED-LOCATION;VALUE=URI;X-ADDRESS=Stonington Free Library 20 High St. Stonington CT 06378 United States;X-APPLE-RADIUS=500;X-TITLE=20 High St.:geo:-71.90651,41.336378
END:VEVENT
BEGIN:VEVENT
DTSTART;TZID=America/New_York:20230514T170000
DTEND;TZID=America/New_York:20230514T180000
DTSTAMP:20260421T084630
CREATED:20221016T051628Z
LAST-MODIFIED:20230430T220719Z
UID:10007255-1684083600-1684087200@www.stoningtonfreelibrary.org
SUMMARY:WILLARD SPIEGELMAN AUTHOR TALK
DESCRIPTION:Author\, Professor of English\, and longtime editor of The Southwest Review\, Willard Spiegelman shares his latest book\, a look into the life and poems of Amy Clampitt\, and reads a selection of her extraordinary works. In person at SFL and live streamed on our YouTube channel
URL:https://www.stoningtonfreelibrary.org/event/willard-spiegelman/
LOCATION:Stonington Free Library\, 20 High St.\, Stonington\, CT\, 06378\, United States
CATEGORIES:Adult Lecture Series,Outreach
ATTACH;FMTTYPE=image/png:https://www.stoningtonfreelibrary.org/wp-content/uploads/2023/04/Willard-Spiegelman-51423-Instagram-Post-Square-Alyssa-Downey.png
ORGANIZER;CN="Karla Umland":MAILTO:karla@stoningtonfreelibrary.org
GEO:41.336378;-71.90651
X-APPLE-STRUCTURED-LOCATION;VALUE=URI;X-ADDRESS=Stonington Free Library 20 High St. Stonington CT 06378 United States;X-APPLE-RADIUS=500;X-TITLE=20 High St.:geo:-71.90651,41.336378
END:VEVENT
BEGIN:VEVENT
DTSTART;TZID=America/New_York:20230518T170000
DTEND;TZID=America/New_York:20230518T180000
DTSTAMP:20260421T084630
CREATED:20221016T051733Z
LAST-MODIFIED:20230514T210908Z
UID:10007256-1684429200-1684432800@www.stoningtonfreelibrary.org
SUMMARY:Tom Schuch and Lonnie Braxton discuss New London Black Heritage Trail
DESCRIPTION:Join us for a talk on New London’s Black Heritage Trail\, which celebrates three centuries of Black strength\, resilience\, and accomplishment. Each of the 16 sites tells a story about Black life in New London while tying into larger stories about enslavement\, the Great Migration and the struggle for civil rights. In person and live streamed on our YouTube channel. \nThe mission of Stonington Free Library is to enrich lives and build community by bringing information\, ideas and people together.
URL:https://www.stoningtonfreelibrary.org/event/tom-schuch-and-lonnie-braxton-discuss-new-london-black-heritage-trail/
LOCATION:Stonington Free Library\, 20 High St.\, Stonington\, CT\, 06378\, United States
CATEGORIES:Adult Lecture Series
ATTACH;FMTTYPE=image/png:https://www.stoningtonfreelibrary.org/wp-content/uploads/2022/10/New-London-Black-Heritage-Trail-5182023-Instagram-Post-Square-Alyssa-Downey.png
ORGANIZER;CN="Karla Umland":MAILTO:karla@stoningtonfreelibrary.org
GEO:41.336378;-71.90651
X-APPLE-STRUCTURED-LOCATION;VALUE=URI;X-ADDRESS=Stonington Free Library 20 High St. Stonington CT 06378 United States;X-APPLE-RADIUS=500;X-TITLE=20 High St.:geo:-71.90651,41.336378
END:VEVENT
END:VCALENDAR