BEGIN:VCALENDAR
VERSION:2.0
PRODID:-//Stonington Free Library - ECPv6.15.20//NONSGML v1.0//EN
CALSCALE:GREGORIAN
METHOD:PUBLISH
X-ORIGINAL-URL:https://www.stoningtonfreelibrary.org
X-WR-CALDESC:Events for Stonington Free Library
REFRESH-INTERVAL;VALUE=DURATION:PT1H
X-Robots-Tag:noindex
X-PUBLISHED-TTL:PT1H
BEGIN:VTIMEZONE
TZID:America/New_York
BEGIN:DAYLIGHT
TZOFFSETFROM:-0500
TZOFFSETTO:-0400
TZNAME:EDT
DTSTART:20210314T070000
END:DAYLIGHT
BEGIN:STANDARD
TZOFFSETFROM:-0400
TZOFFSETTO:-0500
TZNAME:EST
DTSTART:20211107T060000
END:STANDARD
BEGIN:DAYLIGHT
TZOFFSETFROM:-0500
TZOFFSETTO:-0400
TZNAME:EDT
DTSTART:20220313T070000
END:DAYLIGHT
BEGIN:STANDARD
TZOFFSETFROM:-0400
TZOFFSETTO:-0500
TZNAME:EST
DTSTART:20221106T060000
END:STANDARD
BEGIN:DAYLIGHT
TZOFFSETFROM:-0500
TZOFFSETTO:-0400
TZNAME:EDT
DTSTART:20230312T070000
END:DAYLIGHT
BEGIN:STANDARD
TZOFFSETFROM:-0400
TZOFFSETTO:-0500
TZNAME:EST
DTSTART:20231105T060000
END:STANDARD
END:VTIMEZONE
BEGIN:VEVENT
DTSTART;TZID=America/New_York:20220505T180000
DTEND;TZID=America/New_York:20220505T190000
DTSTAMP:20260423T114604
CREATED:20220426T042040Z
LAST-MODIFIED:20220429T002856Z
UID:10007133-1651773600-1651777200@www.stoningtonfreelibrary.org
SUMMARY:Russia's War Against Ukraine: Lessons Learned and Future Scenarios
DESCRIPTION:Virtual program. Join Olena Lennon\, Ph.D.\, Adjunct Professor of Political Science and National Security at the University of New Haven\, and Eastern Ukraine native\, for a follow up on her last talk about Russia’s invasion of Ukraine. As the state of the war changes daily\, Olena’s talk will summarize recent developments so far\, present lessons the war poses\, and project what may occur in the future as this war unfolds. The session will close with a question and answer session with audience members.\nSpeaker Bio\nOlena Lennon\, Ph.D. is an Adjunct Professor of Political Science and National Security at the University of New Haven\, where she teaches such courses as the U.S. Foreign and Defense Policy\, International Relations\, and Comparative Politics. An Eastern Ukraine native\, she also serves as a co-editor of an online scholarly forum “Eyes on Donbas: Politics\, Places\, and People” at the Harvard Ukrainian Research Institute. Formerly a Fulbright scholar and most recently a Title VIII Scholar at Woodrow Wilson Center’s Kennan Institute in Washington\, D.C.\, Olena has dedicated her research to domestic and international politics of Ukraine\, as well as Eurasian geopolitics and security writ large.\nThis virtual program is hosted by the Mystic & Noank Library and co-sponsored by the Bill Memorial\, Groton Public\, Lyme Public\, New London Public\, Otis\, Stonington Free\, and Waterford Public Libraries.\nRegistration is required to attend this program.\nRegister here: https://us02web.zoom.us/…/reg…/WN_HcU4hjvbSg-sabi15QCYSQ
URL:https://www.stoningtonfreelibrary.org/event/digital-program-russias-war-against-ukraine-lessons-learned-and-future/
LOCATION:Stonington Free Library\, 20 High St.\, Stonington\, CT\, 06378\, United States
CATEGORIES:Adult Lecture Series,Outreach
ORGANIZER;CN="Karla Umland":MAILTO:karla@stoningtonfreelibrary.org
GEO:41.336378;-71.90651
X-APPLE-STRUCTURED-LOCATION;VALUE=URI;X-ADDRESS=Stonington Free Library 20 High St. Stonington CT 06378 United States;X-APPLE-RADIUS=500;X-TITLE=20 High St.:geo:-71.90651,41.336378
END:VEVENT
BEGIN:VEVENT
DTSTART;TZID=America/New_York:20220508T170000
DTEND;TZID=America/New_York:20220508T180000
DTSTAMP:20260423T114604
CREATED:20220107T060419Z
LAST-MODIFIED:20220501T003926Z
UID:10007093-1652029200-1652032800@www.stoningtonfreelibrary.org
SUMMARY:Willard Spiegelman: How I Became an Art Critic by Just Looking
DESCRIPTION:Author\, Professor of English and longtime editor of The Southwest Review\, Willard Spiegelman shares his latest book\, a thoughtfully curated collection of essays on art originally published in The Wall Street Journal.
URL:https://www.stoningtonfreelibrary.org/event/willard-spiegelman-how-i-became-an-art-critic-by-looking/
LOCATION:Stonington Free Library\, 20 High St.\, Stonington\, CT\, 06378\, United States
CATEGORIES:Adult Lecture Series
ORGANIZER;CN="Karla Umland":MAILTO:karla@stoningtonfreelibrary.org
GEO:41.336378;-71.90651
X-APPLE-STRUCTURED-LOCATION;VALUE=URI;X-ADDRESS=Stonington Free Library 20 High St. Stonington CT 06378 United States;X-APPLE-RADIUS=500;X-TITLE=20 High St.:geo:-71.90651,41.336378
END:VEVENT
BEGIN:VEVENT
DTSTART;TZID=America/New_York:20220519T170000
DTEND;TZID=America/New_York:20220519T180000
DTSTAMP:20260423T114604
CREATED:20220107T060500Z
LAST-MODIFIED:20220510T023215Z
UID:10007094-1652979600-1652983200@www.stoningtonfreelibrary.org
SUMMARY:Noreen Kepple: What is an End-of-Life Doula?
DESCRIPTION:Come and acquaint yourself with the role of an End-Of-Life Doula.This session will enlighten and highlight a doula’s role in the dying process and how a doula enriches the dying experience for patients and their families in non-medical ways. Doulas Noreen Kepple\, Greta McGugan\, and Lavina Kepple will present examples of support\, where they did their training\, and answer any questions you may have.
URL:https://www.stoningtonfreelibrary.org/event/noreen-kepple-death-doulas/
LOCATION:Stonington Free Library\, 20 High St.\, Stonington\, CT\, 06378\, United States
CATEGORIES:Adult Lecture Series
ORGANIZER;CN="Karla Umland":MAILTO:karla@stoningtonfreelibrary.org
GEO:41.336378;-71.90651
X-APPLE-STRUCTURED-LOCATION;VALUE=URI;X-ADDRESS=Stonington Free Library 20 High St. Stonington CT 06378 United States;X-APPLE-RADIUS=500;X-TITLE=20 High St.:geo:-71.90651,41.336378
END:VEVENT
END:VCALENDAR